BEGIN:VCALENDAR
VERSION:2.0
PRODID:-//Plone.org//NONSGML plone.app.event//EN
X-WR-TIMEZONE:America/Chicago
BEGIN:VEVENT
SUMMARY:FRC World Championship
DTSTART;VALUE=DATE:20260429
DTEND;VALUE=DATE:20260504
DTSTAMP:20260420T075612Z
UID:c102e3f683bc4802bf13402421db3f5f@backend
CONTACT:https://www.firstinspires.org/programs/first-championship
CREATED:20260420T011327Z
DESCRIPTION:The FIRST® Robotics Competition brings together 600 FRC teams
  from around the globe to celebrate the season and compete head-to-head.
LAST-MODIFIED:20260420T011333Z
LOCATION:George R. Brown Convention Center 1001 Avenida de las Americas Ho
 uston\, Texas 77010
URL:https://waverobotics.com/en/news/frc-world-championship
END:VEVENT
END:VCALENDAR
